BEGIN:VCALENDAR
VERSION:2.0
PRODID:Festejos em Honra de São Marcos em Calhandriz
X-WR-CALNAME:Festejos em Honra de São Marcos em Calhandriz
X-WR-TIMEZONE:Europe/Lisbon
X-PUBLISHED-TTL:P1W
BEGIN:VTIMEZONE
TZID:Europe/Lisbon
X-LIC-LOCATION:Europe/Lisbon
END:VTIMEZONE
BEGIN:VEVENT
UID:69e4e076eba04
DTSTART;VALUE=DATE:20240531
SEQUENCE:0
TRANSP:OPAQUE
DTEND;VALUE=DATE:20240601
SUMMARY:Festejos em Honra de São Marcos em Calhandriz
CLASS:PUBLIC
X-MICROSOFT-CDO-ALLDAYEVENT:TRUE
DTSTAMP:20260419T140230Z
END:VEVENT
END:VCALENDAR