BEGIN:VCALENDAR
VERSION:2.0
PRODID:Tarde de Fados e Exibição de Ginástica Acrobática
X-WR-CALNAME:Tarde de Fados e Exibição de Ginástica Acrobática
X-WR-TIMEZONE:Europe/Lisbon
X-PUBLISHED-TTL:P1W
BEGIN:VTIMEZONE
TZID:Europe/Lisbon
X-LIC-LOCATION:Europe/Lisbon
END:VTIMEZONE
BEGIN:VEVENT
UID:69e74aac9531b
DTSTART;VALUE=DATE:20240622
SEQUENCE:0
TRANSP:OPAQUE
DTEND;VALUE=DATE:20240623
SUMMARY:Tarde de Fados e Exibição de Ginástica Acrobática
CLASS:PUBLIC
X-MICROSOFT-CDO-ALLDAYEVENT:TRUE
DTSTAMP:20260421T100012Z
END:VEVENT
END:VCALENDAR