BEGIN:VCALENDAR
VERSION:2.0
PRODID:Caminhada nos Cotovios em São João dos Montes
X-WR-CALNAME:Caminhada nos Cotovios em São João dos Montes
X-WR-TIMEZONE:Europe/Lisbon
X-PUBLISHED-TTL:P1W
BEGIN:VTIMEZONE
TZID:Europe/Lisbon
X-LIC-LOCATION:Europe/Lisbon
END:VTIMEZONE
BEGIN:VEVENT
UID:69e74b2bc8564
DTSTART;VALUE=DATE:20240421
SEQUENCE:0
TRANSP:OPAQUE
DTEND;VALUE=DATE:20240422
SUMMARY:Caminhada nos Cotovios em São João dos Montes
CLASS:PUBLIC
DESCRIPTION:A Caminhada\, que está inserida nas Comemorações do 54.º An
 iversário do Clube Recreativo dos Cotovios\, em São João dos Montes. Co
 nsulte o cartaz.A realização do evento é da inteira responsabilidade do
  Clube Recreativo dos Cotovios.
X-MICROSOFT-CDO-ALLDAYEVENT:TRUE
DTSTAMP:20260421T100219Z
END:VEVENT
END:VCALENDAR