BEGIN:VCALENDAR
VERSION:2.0
PRODID:Visite a Vila Natal na Praça Soeiro Pereira Gomes
X-WR-CALNAME:Visite a Vila Natal na Praça Soeiro Pereira Gomes
X-WR-TIMEZONE:Europe/Lisbon
X-PUBLISHED-TTL:P1W
BEGIN:VTIMEZONE
TZID:Europe/Lisbon
X-LIC-LOCATION:Europe/Lisbon
END:VTIMEZONE
BEGIN:VEVENT
UID:69e749efca4fd
DTSTART;VALUE=DATE:20231217
SEQUENCE:0
TRANSP:OPAQUE
DTEND;VALUE=DATE:20231218
SUMMARY:Visite a Vila Natal na Praça Soeiro Pereira Gomes
CLASS:PUBLIC
X-MICROSOFT-CDO-ALLDAYEVENT:TRUE
DTSTAMP:20260421T095703Z
END:VEVENT
END:VCALENDAR