BEGIN:VCALENDAR
VERSION:2.0
PRODID:\"A Vida Mágica da Sementinha\" no Clube Desportivo\, Recreativo e 
 Cultural de Calhandriz 
X-WR-CALNAME:\"A Vida Mágica da Sementinha\" no Clube Desportivo\, Recreat
 ivo e Cultural de Calhandriz 
X-WR-TIMEZONE:Europe/Lisbon
X-PUBLISHED-TTL:P1W
BEGIN:VTIMEZONE
TZID:Europe/Lisbon
X-LIC-LOCATION:Europe/Lisbon
END:VTIMEZONE
BEGIN:VEVENT
UID:69e73890cd44b
DTSTART;VALUE=DATE:20241116
SEQUENCE:0
TRANSP:OPAQUE
DTEND;VALUE=DATE:20241117
SUMMARY:\"A Vida Mágica da Sementinha\" no Clube Desportivo\, Recreativo e
  Cultural de Calhandriz 
CLASS:PUBLIC
X-MICROSOFT-CDO-ALLDAYEVENT:TRUE
DTSTAMP:20260421T084256Z
END:VEVENT
END:VCALENDAR