BEGIN:VCALENDAR
VERSION:2.0
PRODID:Gincana \"Revolução de Abril\" na Praça Soeiro Pereira Gomes em A
 lhandra
X-WR-CALNAME:Gincana \"Revolução de Abril\" na Praça Soeiro Pereira Gome
 s em Alhandra
X-WR-TIMEZONE:Europe/Lisbon
X-PUBLISHED-TTL:P1W
BEGIN:VTIMEZONE
TZID:Europe/Lisbon
X-LIC-LOCATION:Europe/Lisbon
END:VTIMEZONE
BEGIN:VEVENT
UID:69e750e1f0503
DTSTART;VALUE=DATE:20240414
SEQUENCE:0
TRANSP:OPAQUE
DTEND;VALUE=DATE:20240415
SUMMARY:Gincana \"Revolução de Abril\" na Praça Soeiro Pereira Gomes em 
 Alhandra
CLASS:PUBLIC
DESCRIPTION:A&nbsp\;Gincana \"Revolução de Abril\"\, que está inserida n
 a Programação dos 50 anos do 25 de Abril da União de Freguesias de Alha
 ndra São João dos Montes e Calhandriz\, realiza-se na Praça Soeiro Pere
 ira Gomes\, em Alhandra.  A realização do evento é da inteira responsab
 ilidade da Associação de Artesãos de Alhandra e Casa das Estórias.
X-MICROSOFT-CDO-ALLDAYEVENT:TRUE
DTSTAMP:20260421T102641Z
END:VEVENT
END:VCALENDAR