BEGIN:VCALENDAR
VERSION:2.0
PRODID:Exposição de Pintura - Galeria de Exposições Augusto Bértholo
X-WR-CALNAME:Exposição de Pintura - Galeria de Exposições Augusto Bért
 holo
X-WR-TIMEZONE:Europe/Lisbon
X-PUBLISHED-TTL:P1W
BEGIN:VTIMEZONE
TZID:Europe/Lisbon
X-LIC-LOCATION:Europe/Lisbon
END:VTIMEZONE
BEGIN:VEVENT
UID:69e749f09f844
DTSTART;VALUE=DATE:20221106
SEQUENCE:0
TRANSP:OPAQUE
DTEND;VALUE=DATE:20221107
SUMMARY:Exposição de Pintura - Galeria de Exposições Augusto Bértholo
CLASS:PUBLIC
DESCRIPTION:A exposição da artista plástica Graciete Rosa Rosa realiza-s
 e no Museu de Alhandra - Casa Dr. Sousa Martins.
X-MICROSOFT-CDO-ALLDAYEVENT:TRUE
DTSTAMP:20260421T095704Z
END:VEVENT
END:VCALENDAR