BEGIN:VCALENDAR
VERSION:2.0
PRODID:50 Anos de Liberdade e Urgência do Grupo de Teatro Esteiros 
X-WR-CALNAME:50 Anos de Liberdade e Urgência do Grupo de Teatro Esteiros 
X-WR-TIMEZONE:Europe/Lisbon
X-PUBLISHED-TTL:P1W
BEGIN:VTIMEZONE
TZID:Europe/Lisbon
X-LIC-LOCATION:Europe/Lisbon
END:VTIMEZONE
BEGIN:VEVENT
UID:69ec193a41105
DTSTART;VALUE=DATE:20250406
SEQUENCE:0
TRANSP:OPAQUE
DTEND;VALUE=DATE:20250407
SUMMARY:50 Anos de Liberdade e Urgência do Grupo de Teatro Esteiros 
CLASS:PUBLIC
X-MICROSOFT-CDO-ALLDAYEVENT:TRUE
DTSTAMP:20260425T013034Z
END:VEVENT
END:VCALENDAR